BEGIN:VCALENDAR
VERSION:2.0
PRODID:-//ChamberMaster//Event Calendar 2.0//EN
METHOD:PUBLISH
X-PUBLISHED-TTL:P3D
REFRESH-INTERVAL:P3D
CALSCALE:GREGORIAN
BEGIN:VEVENT
DTSTART:20191004T003000Z
DTEND:20191004T023000Z
X-MICROSOFT-CDO-ALLDAYEVENT:FALSE
SUMMARY:Deer Resistant Plants
DESCRIPTION:Deer Resistant Plants\n \n\n\nYes\, there are plants that local deer (usually) avoid in your home garden landscape!\n\n \n\nAfter 14 years specializing in deer resistant plants at Shooting Star Nursery\, Christie Mackison shares her experience with what works in the Rogue Valley\, delving into how to incorporate deer resistant plants in your space with techniques to keep deer from feeding in the garden.
X-ALT-DESC;FMTTYPE=text/html:Deer Resistant Plants\n<div>&nbsp\;</div>\n\n<div>\n<p class="x_MsoNormal" style="color: rgb(32\, 31\, 30)\; background-color: rgb(255\, 255\, 255)\; margin: 0in 0in 0.0001pt\; line-height: normal\; background-image: initial\; background-position: initial\; background-size: initial\; background-repeat: initial\; background-origin: initial\; background-clip: initial\; font-size: 11pt\; font-family: Calibri\, sans-serif\;"><span style="margin: 0px\; padding: 0px\; border: 0px\; font-style: inherit\; font-variant: inherit\; font-weight: inherit\; font-stretch: inherit\; font-size: 12pt\; line-height: inherit\; font-family: Arial\, sans-serif\; vertical-align: baseline\; color: black\;">Yes\, there are plants that local deer (usually) avoid in your home garden landscape!</span></p>\n\n<p class="x_MsoNormal" style="color: rgb(32\, 31\, 30)\; background-color: rgb(255\, 255\, 255)\; margin: 0in 0in 0.0001pt\; line-height: normal\; background-image: initial\; background-position: initial\; background-size: initial\; background-repeat: initial\; background-origin: initial\; background-clip: initial\; font-size: 11pt\; font-family: Calibri\, sans-serif\;"><span style="margin: 0px\; padding: 0px\; border: 0px\; font-style: inherit\; font-variant: inherit\; font-weight: inherit\; font-stretch: inherit\; font-size: 12pt\; line-height: inherit\; font-family: Arial\, sans-serif\; vertical-align: baseline\; color: inherit\;">&nbsp\;</span></p>\n\n<p class="x_MsoNormal" style="color: rgb(32\, 31\, 30)\; background-color: rgb(255\, 255\, 255)\; margin: 0in 0in 8pt\; line-height: 15.6933px\; font-size: 11pt\; font-family: Calibri\, sans-serif\;"><span style="margin: 0px\; padding: 0px\; border: 0px\; font-style: inherit\; font-variant: inherit\; font-weight: inherit\; font-stretch: inherit\; font-size: 12pt\; line-height: 17.12px\; font-family: Arial\, sans-serif\; vertical-align: baseline\; color: inherit\;">After 14 years specializing in deer resistant plants at Shooting Star Nursery\, Christie Mackison shares her experience with what works in the Rogue Valley\, delving into how to incorporate deer resistant plants in your space with techniques to keep deer from feeding in the garden.</span></p>\n</div>\n
LOCATION:OSU Extension Auditorium\, 569 Hanley Rd in Central Point.
UID:e.2354.6938
SEQUENCE:3
DTSTAMP:20260424T011330Z
URL:http://centralpointchamber.chambermaster.com/events/details/deer-resistant-plants-6938
END:VEVENT

END:VCALENDAR
