BEGIN:VCALENDAR
VERSION:2.0
PRODID:-//ChamberMaster//Event Calendar 2.0//EN
METHOD:PUBLISH
X-PUBLISHED-TTL:P3D
REFRESH-INTERVAL:P3D
CALSCALE:GREGORIAN
BEGIN:VEVENT
DTSTART:20190218T170000Z
DTEND:20190219T000000Z
X-MICROSOFT-CDO-ALLDAYEVENT:FALSE
SUMMARY:LEGO® Engineering with Rebel Bricks!
DESCRIPTION:In this LEGO Engineering class we will be teaching your kiddo how to think outside the box while being creative. We will be teaching S.N.O.T. (Studs Not On Top) and how this technique can be useful\, while doing super fun challenges forcing your brain to think differently about your LEGO. This is a great way to spend your day off of school! What to Bring: Please be sure to pack a lunch and bring your smile!
X-ALT-DESC;FMTTYPE=text/html:In this LEGO Engineering class we will be teaching your kiddo how to think outside the box while being creative. We will be teaching S.N.O.T. (Studs Not On Top) and how this technique can be useful\, while doing super fun challenges forcing your brain to think differently about your LEGO. This is a great way to spend your day off of school! What to Bring: Please be sure to pack a lunch and bring your smile!
LOCATION:Central Point Parks and Recreation 140 S 3rd St\, Central Point\, Oregon 97502
UID:e.2354.4681
SEQUENCE:3
DTSTAMP:20260420T023943Z
URL:http://centralpointchamber.chambermaster.com/events/details/lego-engineering-with-rebel-bricks-4681
END:VEVENT

END:VCALENDAR
